BEGIN:VCALENDAR
PRODID;X-RICAL-TZSOURCE=TZINFO:-//Calagator//EN
CALSCALE:GREGORIAN
X-WR-CALNAME:Adapt2Play
METHOD:PUBLISH
VERSION:2.0
BEGIN:VEVENT
CREATED;VALUE=DATE-TIME:20260421T000328Z
DTEND;VALUE=DATE-TIME:20260423T150000Z
DTSTART;VALUE=DATE-TIME:20260423T140000Z
DTSTAMP;VALUE=DATE-TIME:20260421T000328Z
LAST-MODIFIED;VALUE=DATE-TIME:20260421T000328Z
UID:https://adapt2play.org/events/23305-mackenzie-savoy-thursday-sailing-
 veterans-and-first-responders
DESCRIPTION:April 23\, 2026 10:00am EDT\nCalendar: Veterans and First Res
 ponders\nName: MacKenzie Savoy\nPhone: +17076312654\nEmail: mackenziesav
 oy11@gmail.com\n\nLocation\n============\nTeam Paradise Sailing\, 2476 S
 . Bayshore Dr. Miami\, FL 33133\n\n\nTerms &amp\; Conditions for Veteran
 s and First Responders \n============\nI have read and agree to the term
 s above: yes\n\nHow did you find us: VA Hospital\n\nAre you a Diasbled V
 eteran?: yes\n\nAre you a Veteran: yes\n\nAre you a First Responder?: no
 \n\n\nChange Appointment:\nhttps://teamparadise.squarespace.com/config/s
 cheduling/appointments/view/1691152338\n\n\nPlease use Acuity Scheduling
  to cancel or reschedule this appointment.\n(created by Acuity Schedulin
 g)\nAcuityID=1691152338\n\n\nImported from: https://adapt2play.org/event
 s/23305-mackenzie-savoy-thursday-sailing-veterans-and-first-responders
SUMMARY:MacKenzie Savoy: Thursday Sailing (Veterans and First Responders)
LOCATION:Location:: 2476 South Bayshore Drive\, Miami Florida 33133 
SEQUENCE:1
END:VEVENT
END:VCALENDAR
