BEGIN:VCALENDAR
PRODID;X-RICAL-TZSOURCE=TZINFO:-//Calagator//EN
CALSCALE:GREGORIAN
X-WR-CALNAME:Adapt2Play
METHOD:PUBLISH
VERSION:2.0
BEGIN:VEVENT
CREATED;VALUE=DATE-TIME:20260421T000304Z
DTEND;VALUE=DATE-TIME:20260504T110000Z
DTSTART;VALUE=DATE-TIME:20260504T100000Z
DTSTAMP;VALUE=DATE-TIME:20260421T000304Z
LAST-MODIFIED;VALUE=DATE-TIME:20260421T000304Z
UID:https://adapt2play.org/events/23303-cycling
DESCRIPTION:Our Veteran Cycling Program is tailored for veterans of all s
 kill levels\, whether you’re looking to train and compete in cycling or 
 simply want to exercise and enjoy the social experience of riding with o
 thers. BlazeSports offers regular cycling sessions that provide a great 
 opportunity to stay active\, connect with fellow veterans\, and enjoy th
 e camaraderie of the group. Rides take place on scenic trails like the S
 ilver Comet Trail and through the beautiful landscapes of Panola State P
 ark\, making each session both physically rewarding and a chance to rela
 x in nature. \nWhether you’re aiming for competition or just seeking fit
 ness and fun\, this program welcomes you to come out and ride with us! \
 nBicycles\, recumbent bicycles\, handcycles\, and helmets are available\
 , should you need one to participate. \nYou must be a BlazeSports Member
  to register for this event. Membership is free and renewed annually.  \
 nWhen: Mondays \n10 AM – 12 PM \nWhere: Silver Comet Trail – Floyd Road 
 Trailhead\n4342 Floyd Road SW\nMableton\, GA \nRegister here.\n\nImporte
 d from: https://adapt2play.org/events/23303-cycling
URL:https://blazesports.org/event/cycling-2/2026-05-04/
SUMMARY:Cycling
LOCATION:Location:: 4342 Floyd Road Southwest\, Mableton Georgia 30126 
SEQUENCE:1
END:VEVENT
END:VCALENDAR
