BEGIN:VCALENDAR
PRODID;X-RICAL-TZSOURCE=TZINFO:-//Calagator//EN
CALSCALE:GREGORIAN
X-WR-CALNAME:Adapt2Play
METHOD:PUBLISH
VERSION:2.0
BEGIN:VEVENT
CREATED;VALUE=DATE-TIME:20260421T000227Z
DTEND;VALUE=DATE-TIME:20261119T110000Z
DTSTART;VALUE=DATE-TIME:20261119T100000Z
DTSTAMP;VALUE=DATE-TIME:20260421T000227Z
LAST-MODIFIED;VALUE=DATE-TIME:20260421T000227Z
UID:https://adapt2play.org/events/23299-field-of-hope-adaptive-physical-e
 ducation-school-event
DESCRIPTION:The Field of Hope Adaptive Physical Education (APE) Clinics c
 ontinue this fall\, bringing adaptive sports directly to public school s
 tudents with disabilities. \nThese sessions provide structured\, engagin
 g experiences that promote inclusion\, confidence\, and physical develop
 ment—giving students the opportunity to discover what they’re capable of
 . \nEvent Details: \n\nUpcoming Dates:September 24\, October 23\, Novemb
 er 19\nLocation: Lincoln Manor Adaptive Sports Center\nWho: Public Schoo
 l Students (Adaptive Programs)\nFormat: School-based adaptive sports ses
 sions\n\nImported from: https://adapt2play.org/events/23299-field-of-hop
 e-adaptive-physical-education-school-event
URL:https://smclf.org/event/field-of-hope-adaptive-physical-education-sch
 ool-event-2/2026-11-19/
SUMMARY:Field of Hope Adaptive Physical Education School Event
LOCATION:Location:: 3100 Tifton Street\, Kenner Louisiana 70065 
SEQUENCE:1
END:VEVENT
END:VCALENDAR
