BEGIN:VCALENDAR
PRODID;X-RICAL-TZSOURCE=TZINFO:-//Calagator//EN
CALSCALE:GREGORIAN
X-WR-CALNAME:Adapt2Play
METHOD:PUBLISH
VERSION:2.0
BEGIN:VEVENT
CREATED;VALUE=DATE-TIME:20260421T000227Z
DTEND;VALUE=DATE-TIME:20261010T120000Z
DTSTART;VALUE=DATE-TIME:20261010T110000Z
DTSTAMP;VALUE=DATE-TIME:20260421T000227Z
LAST-MODIFIED;VALUE=DATE-TIME:20260421T000227Z
UID:https://adapt2play.org/events/23298-wcmx-skatepark-sessions
DESCRIPTION:WCMX Skatepark Sessions – Adaptive Action Sports \nDescriptio
 n:Experience the freedom of movement through WCMX (Wheelchair Motocross)
  at Wentwood Skatepark. These upcoming sessions are open to all levels—f
 rom beginners learning the basics to advanced riders pushing progression
 . \nThis is where creativity\, progression\, and community come together
 . \nEvent Details: \n\nUpcoming Dates:May 16\, September 12\, October 10
 \nLocation: Wentwood Skatepark\nWho: All Levels Welcome\nEquipment: Limi
 ted adaptive chairs and safety gear available\n\nImported from: https://
 adapt2play.org/events/23298-wcmx-skatepark-sessions
URL:https://smclf.org/event/wcmx-skatepark-sessions/2026-10-10/
SUMMARY:WCMX Skatepark Sessions
LOCATION:Location:: 200 West Loyola Drive\, Kenner Louisiana 70065 
SEQUENCE:1
END:VEVENT
END:VCALENDAR
