BEGIN:VCALENDAR
PRODID;X-RICAL-TZSOURCE=TZINFO:-//Calagator//EN
CALSCALE:GREGORIAN
X-WR-CALNAME:Adapt2Play
METHOD:PUBLISH
VERSION:2.0
BEGIN:VEVENT
CREATED;VALUE=DATE-TIME:20260421T000227Z
DTEND;VALUE=DATE-TIME:20260808T110000Z
DTSTART;VALUE=DATE-TIME:20260808T100000Z
DTSTAMP;VALUE=DATE-TIME:20260421T000227Z
LAST-MODIFIED;VALUE=DATE-TIME:20260421T000227Z
UID:https://adapt2play.org/events/23294-wheelchair-football-practices-try
 outs-tournaments
DESCRIPTION:Description:The SMCL Wheelchair Football program continues wi
 th practices\, team development\, and tournament play. Athletes of all l
 evels are invited to train\, compete\, and be part of a growing competit
 ive adaptive sports team. \nThis program builds strength\, teamwork\, an
 d high-level competition opportunities. \nEvent Details: \n\nUpcoming Da
 tes Include:June 13\, June 27\, July 11\, July 25\, August 8\, August 22
 Tournament Windows: August 28–30\, September 11–13\, October 2–5\, Octob
 er 30–Nov 1\, November 1\nLocation: Lincoln Manor &amp\; Travel Location
 s\nWho: Youth\, Adults\, Veterans\nLevel: Recreational to Competitive\n\
 nImported from: https://adapt2play.org/events/23294-wheelchair-football-
 practices-tryouts-tournaments
URL:https://smclf.org/event/wheelchair-football-practices-tryouts-tournam
 ents/2026-08-08/
SUMMARY:Wheelchair Football – Practices\, Tryouts & Tournaments
LOCATION:Location:: 3100 Tifton Street\, Kenner Louisiana 70065 
SEQUENCE:1
END:VEVENT
END:VCALENDAR
