BEGIN:VCALENDAR
PRODID;X-RICAL-TZSOURCE=TZINFO:-//Calagator//EN
CALSCALE:GREGORIAN
X-WR-CALNAME:Adapt2Play
METHOD:PUBLISH
VERSION:2.0
BEGIN:VEVENT
CREATED;VALUE=DATE-TIME:20260421T000204Z
DTEND;VALUE=DATE-TIME:20260507T150000Z
DTSTART;VALUE=DATE-TIME:20260507T140000Z
DTSTAMP;VALUE=DATE-TIME:20260421T000204Z
LAST-MODIFIED;VALUE=DATE-TIME:20260421T000204Z
UID:https://adapt2play.org/events/23290-trot-rawles-thursday-sailing-vete
 rans-and-first-responders
DESCRIPTION:May 7\, 2026 10:00am EDT\nCalendar: Veterans and First Respon
 ders\nName: Trot Rawles\nPhone: +18084268423\nEmail: troy.rawles@yahoo.c
 om\n\nLocation\n============\nTeam Paradise Sailing\, 2476 S. Bayshore D
 r. Miami\, FL 33133\n\n\nTerms &amp\; Conditions for Veterans and First 
 Responders \n============\nI have read and agree to the terms above: yes
 \n\nHow did you find us: Other Veteran Service Organizations\n\nAre you 
 a Diasbled Veteran?: yes\n\nAre you a Veteran: yes\n\nAre you a First Re
 sponder?: no\n\n\nChange Appointment:\nhttps://teamparadise.squarespace.
 com/config/scheduling/appointments/view/1691022536\n\n\nPlease use Acuit
 y Scheduling to cancel or reschedule this appointment.\n(created by Acui
 ty Scheduling)\nAcuityID=1691022536\n\n\nImported from: https://adapt2pl
 ay.org/events/23290-trot-rawles-thursday-sailing-veterans-and-first-resp
 onders
SUMMARY:Trot Rawles: Thursday Sailing (Veterans and First Responders)
LOCATION:Location:: 2476 South Bayshore Drive\, Miami Florida 33133 
SEQUENCE:1
END:VEVENT
END:VCALENDAR
