BEGIN:VCALENDAR
PRODID;X-RICAL-TZSOURCE=TZINFO:-//Calagator//EN
CALSCALE:GREGORIAN
X-WR-CALNAME:Adapt2Play
METHOD:PUBLISH
VERSION:2.0
BEGIN:VEVENT
CREATED;VALUE=DATE-TIME:20260419T000329Z
DTEND;VALUE=DATE-TIME:20260505T060000Z
DTSTART;VALUE=DATE-TIME:20260505T050000Z
DTSTAMP;VALUE=DATE-TIME:20260419T000329Z
LAST-MODIFIED;VALUE=DATE-TIME:20260419T000329Z
UID:https://adapt2play.org/events/23259-competitive-team
DESCRIPTION:\n\nImported from: https://adapt2play.org/events/23259-compet
 itive-team
URL:https://rowrio.org/event/competitive-team/2026-05-05/
SUMMARY:Competitive Team
LOCATION:Location:: 730 North Mill Avenue\, Tempe Arizona 85288 
SEQUENCE:1
END:VEVENT
END:VCALENDAR
