BEGIN:VCALENDAR
PRODID;X-RICAL-TZSOURCE=TZINFO:-//Calagator//EN
CALSCALE:GREGORIAN
X-WR-CALNAME:Adapt2Play
METHOD:PUBLISH
VERSION:2.0
BEGIN:VEVENT
CREATED;VALUE=DATE-TIME:20260419T000317Z
DTEND;VALUE=DATE-TIME:20260502T110000Z
DTSTART;VALUE=DATE-TIME:20260502T100000Z
DTSTAMP;VALUE=DATE-TIME:20260419T000317Z
LAST-MODIFIED;VALUE=DATE-TIME:20260420T000339Z
UID:https://adapt2play.org/events/23257-tennis-tournament
DESCRIPTION:Tennis Tournament\n\n\n\n\n\n\nWe’re excited to host our 5th 
 Annual Wheelchair Tennis Tournament on Saturday\, May 2nd! Whether you’r
 e a beginner or an advanced athlete\, this event welcomes players of all
  skill levels. It’s a perfect opportunity to compete\, have fun\, and ex
 perience the excitement of adaptive sports!\n\n\n \n\n\nTake part in the
  skills challenge\, doubles competition\, or\, if you’re a beginner\, jo
 in the fun scoop play to learn the basics. This inclusive event is for e
 veryone to enjoy! We can’t wait to see you on the court for a day of gre
 at sportsmanship and fun!\n\n\n\n\n\nPlease visit our website at https:/
 /blazesports.org/ For questions\, please email asmith@blazesports.org\n\
 nImported from: https://adapt2play.org/events/23257-tennis-tournament
URL:https://blazesports.org/event/tennis-tournament/
SUMMARY:Tennis Tournament
LOCATION:Location:: 2125 Northside Drive Northwest\, Atlanta Georgia 3030
 5 
SEQUENCE:2
END:VEVENT
END:VCALENDAR
