BEGIN:VCALENDAR
PRODID;X-RICAL-TZSOURCE=TZINFO:-//Calagator//EN
CALSCALE:GREGORIAN
X-WR-CALNAME:Adapt2Play
METHOD:PUBLISH
VERSION:2.0
BEGIN:VEVENT
CREATED;VALUE=DATE-TIME:20260419T000317Z
DTEND;VALUE=DATE-TIME:20260502T100000Z
DTSTART;VALUE=DATE-TIME:20260502T090000Z
DTSTAMP;VALUE=DATE-TIME:20260419T000317Z
LAST-MODIFIED;VALUE=DATE-TIME:20260420T000339Z
UID:https://adapt2play.org/events/23255-rowing-saturdays
DESCRIPTION:Rowing Saturdays\nBlazeSports America is excited to continue 
 our partnership with the Atlanta Rowing Club to offer veterans with disa
 bilities the chance to experience adaptive rowing on Saturdays. This pro
 gram is open to all experience levels\, and the Winter season sessions w
 ill be held on the water\, weather permitting.\n\n\n\n\n\n\n\n\n\n\n\n\n
 \n\n\n\n\nParticipants will learn from experts about the sport of adapti
 ve rowing\, including classifications\, safety practices\, and the use o
 f adaptive equipment. They will also gain an understanding of the import
 ance of proper rowing technique\, stroke rhythm\, and how to navigate va
 rious water conditions safely. After gaining valuable knowledge\, vetera
 ns will have the chance to apply their newfound skills on the Chattahooc
 hee River. Experienced guides will be present to offer support and ensur
 e that everyone feels confident and secure while on the water. \nWhether
  you’re new to rowing or have some experience\, this program provides a 
 welcoming and encouraging environment for all participants. It’s an exce
 llent opportunity to build both physical and mental strength\, all while
  connecting with others who share similar experiences. Veterans will not
  only learn a new sport but also develop resilience\, teamwork\, and con
 fidence in their abilities. Adaptive rowing is an empowering activity th
 at promotes wellness\, teamwork\, and personal growth. By the end of the
  session\, participants will have the thrill of navigating the river and
  a strong sense of accomplishment as they reach new milestones in their 
 adaptive sports journey. \n\n\n\n\n\n\n\n\n\n\n\n\n\n\n\n\n\n\n\nRowing 
 Saturdays Program Info:\nWhen: Saturdays \n9:00 AM – 10:30 AM \nWhere: A
 tlanta Rowing Club\n500 Azalea Dr\nRoswell\, GA 30075\n\nImported from: 
 https://adapt2play.org/events/23255-rowing-saturdays
URL:https://blazesports.org/event/rowing-saturdays-2/2026-05-02/
SUMMARY:Rowing Saturdays
LOCATION:Location:: 500 Azalea Drive\, Roswell Georgia 30075 
SEQUENCE:2
END:VEVENT
END:VCALENDAR
