BEGIN:VCALENDAR
PRODID;X-RICAL-TZSOURCE=TZINFO:-//Calagator//EN
CALSCALE:GREGORIAN
X-WR-CALNAME:Adapt2Play
METHOD:PUBLISH
VERSION:2.0
BEGIN:VEVENT
CREATED;VALUE=DATE-TIME:20260418T000331Z
DTEND;VALUE=DATE-TIME:20260612T150000Z
DTSTART;VALUE=DATE-TIME:20260612T140000Z
DTSTAMP;VALUE=DATE-TIME:20260418T000331Z
LAST-MODIFIED;VALUE=DATE-TIME:20260418T000331Z
UID:https://adapt2play.org/events/23236-adaptive-kayak-training-clinic
DESCRIPTION:Time:  10am-3pm \nLocation: Little Lake Sunapee Boat Launch\,
  1891 Little Lake Sunapee Rd\, New London\, NH 03257 \nPlease sign up in
  our NEHSA Portal (on your homepage click on NEHSA Clinic Registration) 
 or give us a call (603) 763-9158 or email info@nehsa.org.\n\nImported fr
 om: https://adapt2play.org/events/23236-adaptive-kayak-training-clinic
URL:https://nehsa.org/events/adaptive-kayak-training-clinic-2/
SUMMARY:Adaptive Kayak Training Clinic
LOCATION:Location:: 03257 165th Avenue Northeast\, New London Minnesota 5
 6273 
SEQUENCE:1
END:VEVENT
END:VCALENDAR
