BEGIN:VCALENDAR
PRODID;X-RICAL-TZSOURCE=TZINFO:-//Calagator//EN
CALSCALE:GREGORIAN
X-WR-CALNAME:Adapt2Play
METHOD:PUBLISH
VERSION:2.0
BEGIN:VEVENT
CREATED;VALUE=DATE-TIME:20260418T000331Z
DTEND;VALUE=DATE-TIME:20260527T150000Z
DTSTART;VALUE=DATE-TIME:20260527T140000Z
DTSTAMP;VALUE=DATE-TIME:20260418T000331Z
LAST-MODIFIED;VALUE=DATE-TIME:20260418T000331Z
UID:https://adapt2play.org/events/23235-kayak-cleanup-rain-date
DESCRIPTION:Rain Date if we cannot do it on May 22nd.  Time:  10am-2pm \n
 Email info@nehsa.org if you would like to help out.  Bring a lunch!  Loc
 ation:  Claremont\, NH.  We will email you directions.\n\nImported from:
  https://adapt2play.org/events/23235-kayak-cleanup-rain-date
URL:https://nehsa.org/events/kayak-cleanup-rain-date/
SUMMARY:Kayak Cleanup Rain Date
LOCATION:Location:: New Hampshire\,  New Hampshire  
SEQUENCE:1
END:VEVENT
END:VCALENDAR
