BEGIN:VCALENDAR
PRODID;X-RICAL-TZSOURCE=TZINFO:-//Calagator//EN
CALSCALE:GREGORIAN
X-WR-CALNAME:Adapt2Play
METHOD:PUBLISH
VERSION:2.0
BEGIN:VEVENT
CREATED;VALUE=DATE-TIME:20260418T000331Z
DTEND;VALUE=DATE-TIME:20260522T150000Z
DTSTART;VALUE=DATE-TIME:20260522T140000Z
DTSTAMP;VALUE=DATE-TIME:20260418T000331Z
LAST-MODIFIED;VALUE=DATE-TIME:20260418T000331Z
UID:https://adapt2play.org/events/23234-kayak-cleanup
DESCRIPTION:Time:  10am-2pm \nEmail info@nehsa.org if you would like to h
 elp out.  Bring a lunch!  Location:  Claremont\, NH.  We will email you 
 directions.\n\nImported from: https://adapt2play.org/events/23234-kayak-
 cleanup
URL:https://nehsa.org/events/kayak-cleanup/
SUMMARY:Kayak Cleanup
LOCATION:Location:: New Hampshire\,  New Hampshire  
SEQUENCE:1
END:VEVENT
END:VCALENDAR
