BEGIN:VCALENDAR
PRODID;X-RICAL-TZSOURCE=TZINFO:-//Calagator//EN
CALSCALE:GREGORIAN
X-WR-CALNAME:Adapt2Play
METHOD:PUBLISH
VERSION:2.0
BEGIN:VEVENT
CREATED;VALUE=DATE-TIME:20260417T000338Z
DTEND;VALUE=DATE-TIME:20260526T140000Z
DTSTART;VALUE=DATE-TIME:20260526T130000Z
DTSTAMP;VALUE=DATE-TIME:20260417T000338Z
LAST-MODIFIED;VALUE=DATE-TIME:20260418T000440Z
UID:https://adapt2play.org/events/23224-kayak-paddling-clinic
DESCRIPTION:North Palm Beach Rowing Club\n13425 Ellison Wilson Road\nNort
 h Palm Beach\, FL 33408 \nGeneral Schedule (subject to change to accommo
 date individual group)\n8:00 am – Volunteer arrival\n9:00 am – Participa
 nts arrive to check-in\, sign waivers and attest that they can swim and 
 are comfortable in the water.\n9:30 am – Program begins with on-land ins
 truction\, followed by on water kayaking\n12:00 noon – Program Concludes
  \nEquipment\nShifting Gears United will provide kayaks\, paddleboards\,
  paddles and PFD [personal floatation device]. SGU has a limited supply 
 of adaptive equipment which can be used to make your paddling experience
  enjoyable\, functional and safe. PFDs are required to be properly worn 
 by all participants while on the water. \nWhat to Wear/Bring\nParticipan
 ts should wear appropriate clothing [no jeans\, sweat pants\, sweat shir
 ts] and prepare to get wet. Footwear is encouraged as you may encounter 
 sharp rocks or other objects. Also bring a hat\, sunglasses with holders
 \, prescriptive glasses holders\, sunscreen\, towels and other personal 
 items as anticipated. We strongly suggest you NOT bring important items 
 like wallets\, cell phones\, cameras on the kayak. Bottled water will be
  provided. \nPlease notify our program director or instructors of any sp
 ecial requests or needs prior upon arrival. \nVolunteers\nWe are always 
 looking for the assistance of volunteers to help with our programs\, esp
 ecially those with kayaking and paddleboard experience. Volunteers shoul
 d plan to arrive a minimum of 30 minutes prior to program start for setu
 p and stay 30 minutes after the end of the program to help clean\, secur
 e and store gear. \nBrought to you by the generous sponsorship of:\n \n\
 n\n        \n            \n        \n        \n            \n           
      Multi-Sports Registration Form\n            \n            \n       
          \n                                        \n                   
  \n                    \n                        \n                     
        Personal Information\n                            \n             
            \n                    \n\n                    \n             
            \n                            First Name *\n                 
            \n                        \n                        \n       
                      Last Name *\n                            \n        
                 \n                    \n\n                    \n        
                 \n                            Address *\n               
              \n                        \n                    \n\n       
              \n                        \n                            Cit
 y *\n                            \n                        \n           
              \n                            State *\n                    
         \n                                Select State\n                
                                                                         
             Alabama\n                                                   
                  Alaska\n                                               
                      Arizona\n                                          
                           Arkansas\n                                    
                                 California\n                            
                                         Colorado\n                      
                                               Connecticut\n             
                                                        Delaware\n       
                                                              Florida\n  
                                                                   Georgi
 a\n                                                                    H
 awaii\n                                                                 
    Idaho\n                                                              
       Illinois\n                                                        
             Indiana\n                                                   
                  Iowa\n                                                 
                    Kansas\n                                             
                        Kentucky\n                                       
                              Louisiana\n                                
                                     Maine\n                             
                                        Maryland\n                       
                                              Massachusetts\n            
                                                         Michigan\n      
                                                               Minnesota\
 n                                                                    Mis
 sissippi\n                                                              
       Missouri\n                                                        
             Montana\n                                                   
                  Nebraska\n                                             
                        Nevada\n                                         
                            New Hampshire\n                              
                                       New Jersey\n                      
                                               New Mexico\n              
                                                       New York\n        
                                                             North Caroli
 na\n                                                                    
 North Dakota\n                                                          
           Ohio\n                                                        
             Oklahoma\n                                                  
                   Oregon\n                                              
                       Pennsylvania\n                                    
                                 Rhode Island\n                          
                                           South Carolina\n              
                                                       South Dakota\n    
                                                                 Tennesse
 e\n                                                                    T
 exas\n                                                                  
   Utah\n                                                                
     Vermont\n                                                           
          Virginia\n                                                     
                Washington\n                                             
                        West Virginia\n                                  
                                   Wisconsin\n                           
                                          Wyoming\n                      
                                       \n                        \n      
                   \n                            ZIP Code *\n            
                 \n                        \n                    \n\n    
                 \n                        \n                            
 Phone Number *\n                            \n                        \n
                         \n                            Date of Birth *\n 
                            \n                        \n                 
    \n\n                    \n                    \n                     
    \n                            Demographics\n                         
    \n                        \n                    \n\n                 
    \n                        \n                            \n           
                      Gender *\n                                \n       
                              \n                                    Male\
 n                                \n                                \n   
                                  \n                                    F
 emale\n                                \n                               
  \n                                    \n                               
      LGBTQ+\n                                \n                         
    \n                        \n                        \n               
              Race/Ethnicity\n                            \n             
                    Select (Optional)\n                                  
                                                                   White\
 n                                                                    Bla
 ck or African American\n                                                
                     Hispanic or Latino\n                                
                                     Asian\n                             
                                        American Indian or Alaska Native\
 n                                                                    Nat
 ive Hawaiian or Other Pacific Islander\n                                
                                     Two or More Races\n                 
                                                    Other\n              
                                               \n                        
 \n                    \n\n                    \n                    \n  
                       \n                            Disability Informati
 on\n                            \n                        \n            
         \n\n                    \n                        \n            
                 \n                                Do you have a disabili
 ty? *\n                                \n                               
      \n                                    Yes\n                        
         \n                                \n                            
         \n                                    No\n                      
           \n                            \n                        \n    
                 \n\n                    \n                        \n    
                         \n                                Date of Disabi
 lity\n                                \n                            \n  
                           \n                                \n          
                           Is disability service related?\n              
                       \n                                        \n      
                                   Yes\n                                 
    \n                                    \n                             
            \n                                        No\n               
                      \n                                \n               
              \n                        \n\n                        \n   
                          \n                                Disability De
 tails\n                                \n                            \n 
                        \n\n                        \n                   
          \n                                Place of Injury\n            
                     \n                            \n                    
     \n                    \n\n                    \n                    
 \n                        \n                            Military Informa
 tion\n                            \n                        \n          
           \n\n                    \n                        \n          
                   \n                                Are you a military v
 eteran?\n                                \n                             
        \n                                    Yes\n                      
           \n                                \n                          
           \n                                    No\n                    
             \n                            \n                        \n  
                   \n\n                    \n                        \n  
                           \n                                Branch of Se
 rvice\n                                \n                               
      Select Branch\n                                                    
                         Army\n                                          
                                   Navy\n                                
                                             Air Force\n                 
                                                            Marines\n    
                                                                         
 Coast Guard\n                                                           
                  Space Force\n                                          
                                   Other\n                               
                                      \n                            \n   
                          \n                                \n           
                          Service Period\n                               
      \n                                        \n                       
                  Pre 2001\n                                    \n       
                              \n                                        \
 n                                        Post 2001\n                    
                 \n                                \n                    
         \n                        \n                    \n\n            
         \n                    \n                        \n              
               Assistance and Mobility\n                            \n   
                      \n                    \n\n                    \n   
                      \n                            \n                   
              \n                                Require a guide\n        
                     \n                        \n                    \n\n
                     \n                        \n                        
     \n                                Type of assistance needed\n       
                          \n                            \n               
          \n                    \n\n                    \n               
          \n                            Mobility aids used:\n            
                 \n                                                      
                                               \n                        
                 \n                                            \n        
                                     Push Rim\n                          
               \n                                    \n                  
                                                   \n                    
                     \n                                            \n    
                                         HC\n                            
             \n                                    \n                    
                                                 \n                      
                   \n                                            \n      
                                       WC\n                              
           \n                                    \n                      
                                               \n                        
                 \n                                            \n        
                                     AMB\n                               
          \n                                    \n                       
                                              \n                         
                \n                                            \n         
                                    AMB-Other\n                          
               \n                                    \n                  
                                                   \n                    
                     \n                                            \n    
                                         Cane\n                          
               \n                                    \n                  
                                                   \n                    
                     \n                                            \n    
                                         Crutches\n                      
                   \n                                    \n              
                                                       \n                
                         \n                                            \n
                                             Prosthetics\n               
                          \n                                    \n       
                                                              \n         
                                \n                                       
      \n                                            Other\n              
                           \n                                    \n      
                                                       \n                
         \n                    \n\n                    \n                
     \n                        \n                            T-Shirt Info
 rmation\n                            \n                        \n       
              \n\n                    \n                        \n       
                      T-Shirt Size *\n                            \n     
                            Select Size\n                                
                                                                     XS\n
                                                                     S\n 
                                                                    M\n  
                                                                   L\n   
                                                                  XL\n   
                                                                  XXL\n  
                                                                   XXXL\n
                                                             \n          
               \n                        \n                            T-
 Shirt Style\n                            \n                             
    Select Style (Optional)\n                                Men's\n     
                            Women's\n                                Unis
 ex\n                            \n                        \n            
         \n\n                    \n                    \n                
         \n                            Emergency Contact\n               
              \n                        \n                    \n\n       
              \n                        \n                            Eme
 rgency Contact Name *\n                            \n                   
      \n                        \n                            Emergency C
 ontact Phone *\n                            \n                        \n
                     \n\n                    \n                    \n    
                     \n                            Waiver and Legal Agree
 ment\n                            \n                        \n          
           \n\n                                            \n            
                                                 \n                      
               \n                                        Waiver and Relea
 se of Liability\n                                        I know that par
 ticipating in Shifting Gears United athletic events is potentially hazar
 dous. I agree not to enter any Shifting Gears United race\, activity\, o
 r sponsored event unless I am medically able and properly trained. I agr
 ee to abide by any decision of a race official relative to my ability to
  safely complete the activity. I assume all risks associated with partic
 ipating\, including\, but not limited to: falls\, contact with vehicles\
 , other participants\, spectators\, or others\, the effect of the weathe
 r\, including high heat\, extreme cold and/ or humidity\, traffic condit
 ions of the road\, all such risks being known and appreciated by me.\n\n
 Having read this Waiver and knowing these facts\, and in consideration o
 f your accepting my application\, I\, for myself or for my child and any
 one else entitled to act on my behalf\, waive and release\, and agree to
  indemnify and hold harmless Shifting Gears United to which I belong (in
 cluding directors\, officers\, leaders\, members\, athletes\, volunteers
 \, guides)\, the local county and city departments of Parks and Recreati
 on\, all sponsors of Shifting Gears United and any of their races or eve
 nts\, members and volunteers\, from present and future claims and liabil
 ities of any kind\, known or unknown\, arising out of my participation i
 n any Shifting Gears United event or related activities\, even though th
 at liability may arise out of ordinary negligence or fault on the part o
 f the persons named in this Waiver. By registering for a Shifting Gears 
 United or any other race though Shifting Gears United\, I hereby grant m
 y permission to Shifting Gears United to act as proxy on my behalf for t
 hat race with full authorization to execute consents\, waivers and relea
 ses included in the Shifting Gears United registration. I further grant 
 my permission to all the foregoing to use photographs\, motion pictures\
 , recordings\, or any other record\nof my participation in Shifting Gear
 s United for any legitimate purpose\, without remuneration. I have read 
 this waiver and agree to the terms. \n                                  
                                                   \n                    
                             \n                                          
           Initial Here *\n                                              
       \n                                                \n              
                               \n                                        
                                     \n                                \n
                                                             \n          
                           \n                                        Safe
  Sport Acknowledgement\n                                        I unders
 tand that (1) participation with Shifting Gear s United is strictly volu
 ntary\, and (2) I a monthly to receive/provide running companionship\, a
 dvice\, and encouragement from my fellow Shifting Gears United athletes/
 volunteers/guides. If anything\, else is asked of me\, or if I am otherw
 ise uncomfortable or concerned\, I will bring it to the immediate attent
 ion of the Shifting Gears United President. \n                          
                                                           \n            
                                     \n                                  
                   Initial Here *\n                                      
               \n                                                \n      
                                       \n                                
                                             \n                          
       \n                                                    \n          
           \n                    \n                    \n                
         \n                            Printed Name *\n                  
           \n                        \n                        \n        
                     Digital Signature (Type your full name) *\n         
                    \n                            By typing your name her
 e\, you acknowledge that this serves as your electronic signature.\n    
                     \n                    \n\n                    \n    
                 \n                        \n                            
 \n                                Parent/Guardian Information (Required 
 for participants under 18)\n                                \n          
                   \n                        \n\n                        
 \n                            \n                                Parent/G
 uardian Name\n                                \n                        
     \n                            \n                                Pare
 nt/Guardian Digital Signature\n                                \n       
                      \n                        \n                    \n\
 n                    \n                    \n                        \n 
                            Witness Information (Optional)\n             
                \n                        \n                    \n\n     
                \n                        \n                            W
 itness Name\n                            \n                        \n   
                      \n                            Witness Digital Signa
 ture\n                            \n                        \n          
           \n\n                    \n                        \n          
                   Submit Registration\n                        \n       
              \n                \n            \n        \n    \n\n\n\n   
  \n        \n            \n                Registration Status\n        
         \n            \n            \n                \n            \n  
           \n                Close\n                New Registration\n\nI
 mported from: https://adapt2play.org/events/23224-kayak-paddling-clinic
URL:https://shiftinggearsunited.org/event/kayak-paddling-clinic/2026-05-2
 6/
SUMMARY:Kayak Paddling Clinic
LOCATION:Location:: 13425 Ellison Wilson Road\, North Palm Beach Florida 
 33408 
SEQUENCE:2
END:VEVENT
END:VCALENDAR
