BEGIN:VCALENDAR
PRODID;X-RICAL-TZSOURCE=TZINFO:-//Calagator//EN
CALSCALE:GREGORIAN
X-WR-CALNAME:Adapt2Play
METHOD:PUBLISH
VERSION:2.0
BEGIN:VEVENT
CREATED;VALUE=DATE-TIME:20260417T000324Z
DTEND;VALUE=DATE-TIME:20260526T170000Z
DTSTART;VALUE=DATE-TIME:20260526T160000Z
DTSTAMP;VALUE=DATE-TIME:20260417T000324Z
LAST-MODIFIED;VALUE=DATE-TIME:20260417T000324Z
UID:https://adapt2play.org/events/23212-toddler-animal-activities
DESCRIPTION:Sign Up\nOrganizer Name: Eagle Mount Great Falls\nOrganizer E
 mail: eaglemountgf@gmail.com\n\nDescription: 4792 13th St. So.  Please w
 ear closed toed shoes and weather appropriate clothing. \n\n\n\nImported
  from: https://adapt2play.org/events/23212-toddler-animal-activities
URL:https://signup.com/go/SgMMjij
SUMMARY:Toddler Animal Activities
LOCATION:Location:: 1065 Franklin Avenue\, Columbus Ohio 43205 
SEQUENCE:1
END:VEVENT
END:VCALENDAR
