BEGIN:VCALENDAR
PRODID;X-RICAL-TZSOURCE=TZINFO:-//Calagator//EN
CALSCALE:GREGORIAN
X-WR-CALNAME:Adapt2Play
METHOD:PUBLISH
VERSION:2.0
BEGIN:VEVENT
CREATED;VALUE=DATE-TIME:20260417T000314Z
DTEND;VALUE=DATE-TIME:20260430T130000Z
DTSTART;VALUE=DATE-TIME:20260430T120000Z
DTSTAMP;VALUE=DATE-TIME:20260417T000314Z
LAST-MODIFIED;VALUE=DATE-TIME:20260418T000415Z
UID:https://adapt2play.org/events/23203-water-aerobics
DESCRIPTION:BlazeSports Veteran Water Aerobics – Stay Active in 2026!\nOu
 r Veteran Water Aerobics program is back for 2026\, offering a refreshin
 g and low-impact way to stay fit\, active\, and engaged. Water aerobics 
 is an excellent workout option for veterans seeking to improve strength\
 , flexibility\, and endurance without putting excessive strain on the jo
 ints. The buoyancy of the water enhances the range of motion while minim
 izing impact\, making it ideal for those recovering from injuries or man
 aging chronic pain. Plus\, the water provides natural resistance\, inten
 sifying the workout while reducing the risk of injury. \nEach session is
  led by experienced instructors who customize exercises to accommodate d
 ifferent ability levels. This ensures that all participants feel both co
 mfortable and challenged\, regardless of their starting point. Beyond th
 e physical benefits\, the program also supports mental well-being. The c
 ombination of exercise and the soothing environment of the water promote
 s relaxation\, reduces stress\, and boosts mood. Veterans also have the 
 opportunity to connect with others in a fun\, supportive setting\, foste
 ring friendships and a sense of community. \nWhether you’re looking to i
 mprove your fitness\, relieve stress\, or simply enjoy the therapeutic e
 ffects of the water\, our Veteran Water Aerobics program has something f
 or everyone. You’ll leave each session feeling stronger\, refreshed\, an
 d motivated to continue on your fitness journey. Don’t miss out on this 
 great opportunity to stay active and engaged in 2025! \nWhen: Thursdays\
 , 12:00 PM – 1:00 PMWhere: Mountain Park Aquatic Center 📍 1063 Rockbridg
 e Rd SW\, Stone Mountain\, GA 30087 \nTake the plunge into better health
  and stronger connections this year! Register today and make a splash wi
 th your fellow veterans.\n\nImported from: https://adapt2play.org/events
 /23203-water-aerobics
URL:https://blazesports.org/event/water-aerobics-2/2026-04-30/
SUMMARY:Water Aerobics
LOCATION:Location:: 1063 Rockbridge Road Southwest\, Stone Mountain Georg
 ia 30087 
SEQUENCE:2
END:VEVENT
END:VCALENDAR
