BEGIN:VCALENDAR
PRODID;X-RICAL-TZSOURCE=TZINFO:-//Calagator//EN
CALSCALE:GREGORIAN
X-WR-CALNAME:Adapt2Play
METHOD:PUBLISH
VERSION:2.0
BEGIN:VEVENT
CREATED;VALUE=DATE-TIME:20260417T000044Z
DTEND;VALUE=DATE-TIME:20260509T190000Z
DTSTART;VALUE=DATE-TIME:20260509T180000Z
DTSTAMP;VALUE=DATE-TIME:20260417T000044Z
LAST-MODIFIED;VALUE=DATE-TIME:20260417T000044Z
UID:https://adapt2play.org/events/23175-stroll-with-jocelyn
DESCRIPTION:Park at the County Building and meet at the river walk way be
 hind it.\n\nImported from: https://adapt2play.org/events/23175-stroll-wi
 th-jocelyn
SUMMARY:stRoll with Jocelyn
LOCATION:Location:: Santa Cruz\, Santa Cruz California 95060 
SEQUENCE:1
END:VEVENT
END:VCALENDAR
