BEGIN:VCALENDAR
PRODID;X-RICAL-TZSOURCE=TZINFO:-//Calagator//EN
CALSCALE:GREGORIAN
X-WR-CALNAME:Adapt2Play
METHOD:PUBLISH
VERSION:2.0
BEGIN:VEVENT
CREATED;VALUE=DATE-TIME:20260417T000044Z
DTEND;VALUE=DATE-TIME:20260718T233000Z
DTSTART;VALUE=DATE-TIME:20260718T223000Z
DTSTAMP;VALUE=DATE-TIME:20260417T000044Z
LAST-MODIFIED;VALUE=DATE-TIME:20260417T000044Z
UID:https://adapt2play.org/events/23174-drumming-sessions
DESCRIPTION:Come learn or add to the rhythm of life.\nMeeting with drum e
 nthusiasts who will help you find your own rhythm with easy to play drum
 s.\nBring your own or we have 10 to share.\n\nImported from: https://ada
 pt2play.org/events/23174-drumming-sessions
SUMMARY:Drumming Sessions
LOCATION:Location:: 110 California Street\, Santa Cruz California 95060 
SEQUENCE:1
END:VEVENT
END:VCALENDAR
