BEGIN:VCALENDAR
PRODID;X-RICAL-TZSOURCE=TZINFO:-//Calagator//EN
CALSCALE:GREGORIAN
X-WR-CALNAME:Adapt2Play
METHOD:PUBLISH
VERSION:2.0
BEGIN:VEVENT
CREATED;VALUE=DATE-TIME:20260417T000044Z
DTEND;VALUE=DATE-TIME:20260614T190000Z
DTSTART;VALUE=DATE-TIME:20260614T180000Z
DTSTAMP;VALUE=DATE-TIME:20260417T000044Z
LAST-MODIFIED;VALUE=DATE-TIME:20260417T000044Z
UID:https://adapt2play.org/events/23173-tennis-time
DESCRIPTION:11:00 am - 12:30 pm\nTennis time geared  for wheel chair user
 s with Paralympian instructor\nHowever\, others are welcomed to come pla
 y with them.\nLet's see how many tennis balls we can get over the net!\n
 \nImported from: https://adapt2play.org/events/23173-tennis-time
SUMMARY:Tennis Time 
LOCATION:Location:: 4400 Jade Street\, Capitola California 95010 
SEQUENCE:1
END:VEVENT
END:VCALENDAR
