BEGIN:VCALENDAR
PRODID;X-RICAL-TZSOURCE=TZINFO:-//Calagator//EN
CALSCALE:GREGORIAN
X-WR-CALNAME:Adapt2Play
METHOD:PUBLISH
VERSION:2.0
BEGIN:VEVENT
CREATED;VALUE=DATE-TIME:20260416T000407Z
DTEND;VALUE=DATE-TIME:20260524T120000Z
DTSTART;VALUE=DATE-TIME:20260524T110000Z
DTSTAMP;VALUE=DATE-TIME:20260416T000407Z
LAST-MODIFIED;VALUE=DATE-TIME:20260417T000338Z
UID:https://adapt2play.org/events/23170-handcycles-bikes-sunday-fun-group
 -ride
DESCRIPTION:Join us for a scenic group ride every Sunday at Coral Cove Pa
 rk\, Jupiter\, FL! All levels and abilities are welcome\, including both
  handcyclists and cyclists. We have a limited number of handcycles avail
 able—please reserve yours with Jacqui at least two days in advance. \nAr
 rival Time: 7:00 AM\nPedals Up: 7:30 AM \nWhat to Bring: \nSGU Jersey \n
 Bike Helmet \nSafety Flag (for handcycles) \nSpare Tube \nHydration/Elec
 trolytes \nAnything else you may need (e.g.\, sunscreen\, sunglasses) \n
 Enjoy the camaraderie and beautiful ocean views as we ride together alon
 g Jupiter Beach. Please arrive prepared and ready to ride!\nCheck our Ev
 ent Calendar for updates and details. \nQuestions or handcycle reservati
 ons? \nContact Jacqui Kapinowski\n(561) 831-8887 (jacqui@shiftinggearsun
 ited.org) \nBrought to you by the generous sponsorship of:\n \n\n\n     
    \n            \n        \n        \n            \n                Mul
 ti-Sports Registration Form\n            \n            \n               
  \n                                        \n                    \n     
                \n                        \n                            P
 ersonal Information\n                            \n                     
    \n                    \n\n                    \n                     
    \n                            First Name *\n                         
    \n                        \n                        \n               
              Last Name *\n                            \n                
         \n                    \n\n                    \n                
         \n                            Address *\n                       
      \n                        \n                    \n\n               
      \n                        \n                            City *\n   
                          \n                        \n                   
      \n                            State *\n                            
 \n                                Select State\n                        
                                                                         
     Alabama\n                                                           
          Alaska\n                                                       
              Arizona\n                                                  
                   Arkansas\n                                            
                         California\n                                    
                                 Colorado\n                              
                                       Connecticut\n                     
                                                Delaware\n               
                                                      Florida\n          
                                                           Georgia\n     
                                                                Hawaii\n 
                                                                    Idaho
 \n                                                                    Il
 linois\n                                                                
     Indiana\n                                                           
          Iowa\n                                                         
            Kansas\n                                                     
                Kentucky\n                                               
                      Louisiana\n                                        
                             Maine\n                                     
                                Maryland\n                               
                                      Massachusetts\n                    
                                                 Michigan\n              
                                                       Minnesota\n       
                                                              Mississippi
 \n                                                                    Mi
 ssouri\n                                                                
     Montana\n                                                           
          Nebraska\n                                                     
                Nevada\n                                                 
                    New Hampshire\n                                      
                               New Jersey\n                              
                                       New Mexico\n                      
                                               New York\n                
                                                     North Carolina\n    
                                                                 North Da
 kota\n                                                                  
   Ohio\n                                                                
     Oklahoma\n                                                          
           Oregon\n                                                      
               Pennsylvania\n                                            
                         Rhode Island\n                                  
                                   South Carolina\n                      
                                               South Dakota\n            
                                                         Tennessee\n     
                                                                Texas\n  
                                                                   Utah\n
                                                                     Verm
 ont\n                                                                   
  Virginia\n                                                             
        Washington\n                                                     
                West Virginia\n                                          
                           Wisconsin\n                                   
                                  Wyoming\n                              
                               \n                        \n              
           \n                            ZIP Code *\n                    
         \n                        \n                    \n\n            
         \n                        \n                            Phone Nu
 mber *\n                            \n                        \n        
                 \n                            Date of Birth *\n         
                    \n                        \n                    \n\n 
                    \n                    \n                        \n   
                          Demographics\n                            \n   
                      \n                    \n\n                    \n   
                      \n                            \n                   
              Gender *\n                                \n               
                      \n                                    Male\n       
                          \n                                \n           
                          \n                                    Female\n 
                                \n                                \n     
                                \n                                    LGB
 TQ+\n                                \n                            \n   
                      \n                        \n                       
      Race/Ethnicity\n                            \n                     
            Select (Optional)\n                                          
                                                           White\n       
                                                              Black or Af
 rican American\n                                                        
             Hispanic or Latino\n                                        
                             Asian\n                                     
                                American Indian or Alaska Native\n       
                                                              Native Hawa
 iian or Other Pacific Islander\n                                        
                             Two or More Races\n                         
                                            Other\n                      
                                       \n                        \n      
               \n\n                    \n                    \n          
               \n                            Disability Information\n    
                         \n                        \n                    
 \n\n                    \n                        \n                    
         \n                                Do you have a disability? *\n 
                                \n                                    \n 
                                    Yes\n                                
 \n                                \n                                    
 \n                                    No\n                              
   \n                            \n                        \n            
         \n\n                    \n                        \n            
                 \n                                Date of Disability\n  
                               \n                            \n          
                   \n                                \n                  
                   Is disability service related?\n                      
               \n                                        \n              
                           Yes\n                                    \n   
                                  \n                                     
    \n                                        No\n                       
              \n                                \n                       
      \n                        \n\n                        \n           
                  \n                                Disability Details\n 
                                \n                            \n         
                \n\n                        \n                           
  \n                                Place of Injury\n                    
             \n                            \n                        \n  
                   \n\n                    \n                    \n      
                   \n                            Military Information\n  
                           \n                        \n                  
   \n\n                    \n                        \n                  
           \n                                Are you a military veteran?\
 n                                \n                                    \
 n                                    Yes\n                              
   \n                                \n                                  
   \n                                    No\n                            
     \n                            \n                        \n          
           \n\n                    \n                        \n          
                   \n                                Branch of Service\n 
                                \n                                    Sel
 ect Branch\n                                                            
                 Army\n                                                  
                           Navy\n                                        
                                     Air Force\n                         
                                                    Marines\n            
                                                                 Coast Gu
 ard\n                                                                   
          Space Force\n                                                  
                           Other\n                                       
                              \n                            \n           
                  \n                                \n                   
                  Service Period\n                                    \n 
                                        \n                               
          Pre 2001\n                                    \n               
                      \n                                        \n       
                                  Post 2001\n                            
         \n                                \n                            
 \n                        \n                    \n\n                    
 \n                    \n                        \n                      
       Assistance and Mobility\n                            \n           
              \n                    \n\n                    \n           
              \n                            \n                           
      \n                                Require a guide\n                
             \n                        \n                    \n\n        
             \n                        \n                            \n  
                               Type of assistance needed\n               
                  \n                            \n                       
  \n                    \n\n                    \n                       
  \n                            Mobility aids used:\n                    
         \n                                                              
                                       \n                                
         \n                                            \n                
                             Push Rim\n                                  
       \n                                    \n                          
                                           \n                            
             \n                                            \n            
                                 HC\n                                    
     \n                                    \n                            
                                         \n                              
           \n                                            \n              
                               WC\n                                      
   \n                                    \n                              
                                       \n                                
         \n                                            \n                
                             AMB\n                                       
  \n                                    \n                               
                                      \n                                 
        \n                                            \n                 
                            AMB-Other\n                                  
       \n                                    \n                          
                                           \n                            
             \n                                            \n            
                                 Cane\n                                  
       \n                                    \n                          
                                           \n                            
             \n                                            \n            
                                 Crutches\n                              
           \n                                    \n                      
                                               \n                        
                 \n                                            \n        
                                     Prosthetics\n                       
                  \n                                    \n               
                                                      \n                 
                        \n                                            \n 
                                            Other\n                      
                   \n                                    \n              
                                               \n                        
 \n                    \n\n                    \n                    \n  
                       \n                            T-Shirt Information\
 n                            \n                        \n               
      \n\n                    \n                        \n               
              T-Shirt Size *\n                            \n             
                    Select Size\n                                        
                                                             XS\n        
                                                             S\n         
                                                            M\n          
                                                           L\n           
                                                          XL\n           
                                                          XXL\n          
                                                           XXXL\n        
                                                     \n                  
       \n                        \n                            T-Shirt St
 yle\n                            \n                                Selec
 t Style (Optional)\n                                Men's\n             
                    Women's\n                                Unisex\n    
                         \n                        \n                    
 \n\n                    \n                    \n                        
 \n                            Emergency Contact\n                       
      \n                        \n                    \n\n               
      \n                        \n                            Emergency C
 ontact Name *\n                            \n                        \n 
                        \n                            Emergency Contact P
 hone *\n                            \n                        \n        
             \n\n                    \n                    \n            
             \n                            Waiver and Legal Agreement\n  
                           \n                        \n                  
   \n\n                                            \n                    
                                         \n                              
       \n                                        Waiver and Release of Li
 ability\n                                        I know that participati
 ng in Shifting Gears United athletic events is potentially hazardous. I 
 agree not to enter any Shifting Gears United race\, activity\, or sponso
 red event unless I am medically able and properly trained. I agree to ab
 ide by any decision of a race official relative to my ability to safely 
 complete the activity. I assume all risks associated with participating\
 , including\, but not limited to: falls\, contact with vehicles\, other 
 participants\, spectators\, or others\, the effect of the weather\, incl
 uding high heat\, extreme cold and/ or humidity\, traffic conditions of 
 the road\, all such risks being known and appreciated by me.\n\nHaving r
 ead this Waiver and knowing these facts\, and in consideration of your a
 ccepting my application\, I\, for myself or for my child and anyone else
  entitled to act on my behalf\, waive and release\, and agree to indemni
 fy and hold harmless Shifting Gears United to which I belong (including 
 directors\, officers\, leaders\, members\, athletes\, volunteers\, guide
 s)\, the local county and city departments of Parks and Recreation\, all
  sponsors of Shifting Gears United and any of their races or events\, me
 mbers and volunteers\, from present and future claims and liabilities of
  any kind\, known or unknown\, arising out of my participation in any Sh
 ifting Gears United event or related activities\, even though that liabi
 lity may arise out of ordinary negligence or fault on the part of the pe
 rsons named in this Waiver. By registering for a Shifting Gears United o
 r any other race though Shifting Gears United\, I hereby grant my permis
 sion to Shifting Gears United to act as proxy on my behalf for that race
  with full authorization to execute consents\, waivers and releases incl
 uded in the Shifting Gears United registration. I further grant my permi
 ssion to all the foregoing to use photographs\, motion pictures\, record
 ings\, or any other record\nof my participation in Shifting Gears United
  for any legitimate purpose\, without remuneration. I have read this wai
 ver and agree to the terms. \n                                          
                                           \n                            
                     \n                                                  
   Initial Here *\n                                                    \n
                                                 \n                      
                       \n                                                
                             \n                                \n        
                                                     \n                  
                   \n                                        Safe Sport A
 cknowledgement\n                                        I understand tha
 t (1) participation with Shifting Gear s United is strictly voluntary\, 
 and (2) I a monthly to receive/provide running companionship\, advice\, 
 and encouragement from my fellow Shifting Gears United athletes/voluntee
 rs/guides. If anything\, else is asked of me\, or if I am otherwise unco
 mfortable or concerned\, I will bring it to the immediate attention of t
 he Shifting Gears United President. \n                                  
                                                   \n                    
                             \n                                          
           Initial Here *\n                                              
       \n                                                \n              
                               \n                                        
                                     \n                                \n
                                                     \n                  
   \n                    \n                    \n                        
 \n                            Printed Name *\n                          
   \n                        \n                        \n                
             Digital Signature (Type your full name) *\n                 
            \n                            By typing your name here\, you 
 acknowledge that this serves as your electronic signature.\n            
             \n                    \n\n                    \n            
         \n                        \n                            \n      
                           Parent/Guardian Information (Required for part
 icipants under 18)\n                                \n                  
           \n                        \n\n                        \n      
                       \n                                Parent/Guardian 
 Name\n                                \n                            \n  
                           \n                                Parent/Guard
 ian Digital Signature\n                                \n               
              \n                        \n                    \n\n       
              \n                    \n                        \n         
                    Witness Information (Optional)\n                     
        \n                        \n                    \n\n             
        \n                        \n                            Witness N
 ame\n                            \n                        \n           
              \n                            Witness Digital Signature\n  
                           \n                        \n                  
   \n\n                    \n                        \n                  
           Submit Registration\n                        \n               
      \n                \n            \n        \n    \n\n\n\n    \n     
    \n            \n                Registration Status\n                
 \n            \n            \n                \n            \n          
   \n                Close\n                New Registration\n\nImported 
 from: https://adapt2play.org/events/23170-handcycles-bikes-sunday-fun-gr
 oup-ride
URL:https://shiftinggearsunited.org/event/handcycles-bikes-sunday-fun-gro
 up-ride/2026-05-24/
SUMMARY:Handcycles & Bikes Sunday Fun Group Ride
LOCATION:Location:: 1600 South Beach Road\, Tequesta Florida 33469 
SEQUENCE:2
END:VEVENT
END:VCALENDAR
