BEGIN:VCALENDAR
PRODID;X-RICAL-TZSOURCE=TZINFO:-//Calagator//EN
CALSCALE:GREGORIAN
X-WR-CALNAME:Adapt2Play
METHOD:PUBLISH
VERSION:2.0
BEGIN:VEVENT
CREATED;VALUE=DATE-TIME:20260416T000401Z
DTEND;VALUE=DATE-TIME:20260426T181500Z
DTSTART;VALUE=DATE-TIME:20260426T171500Z
DTSTAMP;VALUE=DATE-TIME:20260416T000401Z
LAST-MODIFIED;VALUE=DATE-TIME:20260418T000434Z
UID:https://adapt2play.org/events/23169-kendra-dargoonian-one-on-one-adul
 t-sailing-school
DESCRIPTION:April 26\, 2026 1:15pm EDT\nCalendar: Adult Sailing School\nN
 ame: Kendra Dargoonian\nPhone: +19788865928\nEmail: kendra@majorfood.com
 \nPrice: $510.00\nPaid Online: $510.00\n\nLocation\n============\nTeam P
 aradise Sailing\, 2476 S. Bayshore Dr. Miami\, FL 33133\n\n\nTerms &amp\
 ; Conditions (O-O-O)\n============\nI have read and agree to the terms a
 bove: yes\n\nHow did you find us: Google\n\n\nChange Appointment:\nhttps
 ://teamparadise.squarespace.com/config/scheduling/appointments/view/1688
 590841\n\n\nPlease use Acuity Scheduling to cancel or reschedule this ap
 pointment.\n(created by Acuity Scheduling)\nAcuityID=1688590841\n\n\nImp
 orted from: https://adapt2play.org/events/23169-kendra-dargoonian-one-on
 -one-adult-sailing-school
SUMMARY:Kendra Dargoonian: One-On-One (Adult Sailing School)
LOCATION:Location:: 2476 South Bayshore Drive\, Miami Florida 33133 
SEQUENCE:3
END:VEVENT
END:VCALENDAR
