BEGIN:VCALENDAR
PRODID;X-RICAL-TZSOURCE=TZINFO:-//Calagator//EN
CALSCALE:GREGORIAN
X-WR-CALNAME:Adapt2Play
METHOD:PUBLISH
VERSION:2.0
BEGIN:VEVENT
CREATED;VALUE=DATE-TIME:20260416T000337Z
DTEND;VALUE=DATE-TIME:20260428T110000Z
DTSTART;VALUE=DATE-TIME:20260428T100000Z
DTSTAMP;VALUE=DATE-TIME:20260416T000337Z
LAST-MODIFIED;VALUE=DATE-TIME:20260421T000304Z
UID:https://adapt2play.org/events/23163-archery
DESCRIPTION:Join us for Veteran Adaptive Archery on Tuesdays from 10am – 
 12pm at the Panola Mountain State Park Archery Range. \nThe BlazeSports 
 America Veteran’s Archery Program provides veterans with the opportunity
  to adapt military skills to a recreational setting while building confi
 dence and camaraderie. Open to all skill levels\, this program allows pa
 rticipants to train either recreationally or competitively using a varie
 ty of equipment. No prior experience is required—beginners are always we
 lcome! \nYou must be a BlazeSports Member to register for this event. Me
 mbership is free and renewed annually.  \nWhen: Tuesdays \n10 AM – 12 PM
  \nWhere: Panola State Park Range 4965 Flat Bridge Rd SW\, Stockbridge\,
  GA \nRegister here.\n\nImported from: https://adapt2play.org/events/231
 63-archery
URL:https://blazesports.org/event/archery/2026-04-28/
SUMMARY:Archery
LOCATION:Location:: 4965 Flat Bridge Road Southwest\, Stockbridge Georgia
  30281 
SEQUENCE:6
END:VEVENT
END:VCALENDAR
