BEGIN:VCALENDAR
PRODID;X-RICAL-TZSOURCE=TZINFO:-//Calagator//EN
CALSCALE:GREGORIAN
X-WR-CALNAME:Adapt2Play
METHOD:PUBLISH
VERSION:2.0
BEGIN:VEVENT
CREATED;VALUE=DATE-TIME:20260416T000309Z
DTEND;VALUE=DATE-TIME:20260912T003000Z
DTSTART;VALUE=DATE-TIME:20260911T233000Z
DTSTAMP;VALUE=DATE-TIME:20260416T000309Z
LAST-MODIFIED;VALUE=DATE-TIME:20260416T000309Z
UID:https://adapt2play.org/events/23159-mountain-bike-group-ride
DESCRIPTION:Join DREAM staff\, volunteers\, and other community members f
 or group rides at various locations around the Flathead Valley! \nIt’s a
  fun way to meet new people and share the joy of riding a bike in the gr
 eat outdoors. \nLocation: Cedar Flats \nRegistration is required for thi
 s event.\n\nImported from: https://adapt2play.org/events/23159-mountain-
 bike-group-ride
URL:https://dreamadaptive.org/event-view/mountain-bike-group-ride-3/
SUMMARY:Mountain Bike Group Ride
LOCATION:Location:: Forest Road 10815\, Columbia Falls Montana 59912 
SEQUENCE:1
END:VEVENT
END:VCALENDAR
