BEGIN:VCALENDAR
PRODID;X-RICAL-TZSOURCE=TZINFO:-//Calagator//EN
CALSCALE:GREGORIAN
X-WR-CALNAME:Adapt2Play
METHOD:PUBLISH
VERSION:2.0
BEGIN:VEVENT
CREATED;VALUE=DATE-TIME:20260416T000309Z
DTEND;VALUE=DATE-TIME:20260821T010000Z
DTSTART;VALUE=DATE-TIME:20260821T000000Z
DTSTAMP;VALUE=DATE-TIME:20260416T000309Z
LAST-MODIFIED;VALUE=DATE-TIME:20260416T000309Z
UID:https://adapt2play.org/events/23157-mountain-bike-group-ride
DESCRIPTION:Join DREAM staff\, volunteers\, and other community members f
 or group rides at various locations around the Flathead Valley! \nIt’s a
  fun way to meet new people and share the joy of riding a bike in the gr
 eat outdoors. \nLocation: Beaver Lakes \nRegistration is required for th
 is event.\n\nImported from: https://adapt2play.org/events/23157-mountain
 -bike-group-ride
URL:https://dreamadaptive.org/event-view/mountain-bike-group-ride-2/
SUMMARY:Mountain Bike Group Ride
LOCATION:Location:: Beaver Lakes Forest Road\, Laporte Minnesota 56467 
SEQUENCE:1
END:VEVENT
END:VCALENDAR
