BEGIN:VCALENDAR
PRODID;X-RICAL-TZSOURCE=TZINFO:-//Calagator//EN
CALSCALE:GREGORIAN
X-WR-CALNAME:Adapt2Play
METHOD:PUBLISH
VERSION:2.0
BEGIN:VEVENT
CREATED;VALUE=DATE-TIME:20260416T000309Z
DTEND;VALUE=DATE-TIME:20260708T000000Z
DTSTART;VALUE=DATE-TIME:20260707T230000Z
DTSTAMP;VALUE=DATE-TIME:20260416T000309Z
LAST-MODIFIED;VALUE=DATE-TIME:20260420T000311Z
UID:https://adapt2play.org/events/23154-paved-path-group-bike-ride
DESCRIPTION:DREAM is so excited to offer a paved path cycling program. \n
 This program is open to individuals with a permanent disability who’d li
 ke to get out and ride with others. \nDREAM will offer four organized Pa
 ved Path Group Bikes Rides during the summer of 2026. \nRegistration for
  the group rides is required.\n\nImported from: https://adapt2play.org/e
 vents/23154-paved-path-group-bike-ride
URL:https://dreamadaptive.org/event-view/paved-path-group-bike-ride/
SUMMARY:Paved Path Group Bike Ride
LOCATION:Location:: North Valley Drive\, Whitefish Montana 59937 
SEQUENCE:3
END:VEVENT
END:VCALENDAR
