BEGIN:VCALENDAR
PRODID;X-RICAL-TZSOURCE=TZINFO:-//Calagator//EN
CALSCALE:GREGORIAN
X-WR-CALNAME:Adapt2Play
METHOD:PUBLISH
VERSION:2.0
BEGIN:VEVENT
CREATED;VALUE=DATE-TIME:20260416T000309Z
DTEND;VALUE=DATE-TIME:20260619T170000Z
DTSTART;VALUE=DATE-TIME:20260619T160000Z
DTSTAMP;VALUE=DATE-TIME:20260416T000309Z
LAST-MODIFIED;VALUE=DATE-TIME:20260420T000311Z
UID:https://adapt2play.org/events/23151-paddle-day
DESCRIPTION:Paddle days at DREAM are a great way to learn a new activity 
 or paddle around the beautiful lakes. \nAll adaptive and standard equipm
 ent is provided for participants. \nPaddle days occur at Whitefish Lake\
 , Flathead Lake\, and Lake McDonald throughout the summer from 10am -12p
 m. \nRegistration is required for paddle days.\n\nImported from: https:/
 /adapt2play.org/events/23151-paddle-day
URL:https://dreamadaptive.org/event-view/paddle-day/
SUMMARY:Paddle Day
LOCATION:Location:: 30 Lakeside Boulevard\, Whitefish Montana 59937 
SEQUENCE:3
END:VEVENT
END:VCALENDAR
