BEGIN:VCALENDAR
PRODID;X-RICAL-TZSOURCE=TZINFO:-//Calagator//EN
CALSCALE:GREGORIAN
X-WR-CALNAME:Adapt2Play
METHOD:PUBLISH
VERSION:2.0
BEGIN:VEVENT
CREATED;VALUE=DATE-TIME:20260416T000309Z
DTEND;VALUE=DATE-TIME:20260609T010000Z
DTSTART;VALUE=DATE-TIME:20260609T000000Z
DTSTAMP;VALUE=DATE-TIME:20260416T000309Z
LAST-MODIFIED;VALUE=DATE-TIME:20260416T000309Z
UID:https://adapt2play.org/events/23148-empower-sci
DESCRIPTION:Empower SCI offers a transformative experience for adults wit
 h spinal cord injuries\, bringing people together from across the countr
 y to provide a residential rehabilitation experience like no other. \nAb
 ove all else\, Empower SCI provides a safe space to learn and grow\, and
  a family of peers and volunteers that soon become life-long friends. \n
 DREAM staff helps support this mission and the week of empowerment at mu
 ltiple locations throughout the week. \nRegistration is through Empower 
 SCI for this program\, thank you!\n\nImported from: https://adapt2play.o
 rg/events/23148-empower-sci
URL:https://dreamadaptive.org/event-view/empower-sci/
SUMMARY:Empower SCI
LOCATION:Location:: Malta\,    
SEQUENCE:1
END:VEVENT
END:VCALENDAR
