BEGIN:VCALENDAR
PRODID;X-RICAL-TZSOURCE=TZINFO:-//Calagator//EN
CALSCALE:GREGORIAN
X-WR-CALNAME:Adapt2Play
METHOD:PUBLISH
VERSION:2.0
BEGIN:VEVENT
CREATED;VALUE=DATE-TIME:20260416T000309Z
DTEND;VALUE=DATE-TIME:20260531T143000Z
DTSTART;VALUE=DATE-TIME:20260531T133000Z
DTSTAMP;VALUE=DATE-TIME:20260416T000309Z
LAST-MODIFIED;VALUE=DATE-TIME:20260420T000311Z
UID:https://adapt2play.org/events/23147-going-to-the-sun-ride
DESCRIPTION:Join DREAM early this summer for a true bucket list experienc
 e: riding Going to the Sun Road in Glacier National Park before the road
  opens to cars. \nIt’s an early morning start at 7am at Avalanche Trailh
 ead.  Comprehensive packing lists and instructions for park entrance wil
 l be sent out 1 week prior to the program date. \nRegistration is requir
 ed\, this program fills quickly and bikes will be assigned on a first co
 me\, first serve basis.\n\nImported from: https://adapt2play.org/events/
 23147-going-to-the-sun-ride
URL:https://dreamadaptive.org/event-view/going-to-the-sun-ride-2/
SUMMARY:Going to the Sun Ride
LOCATION:Location:: National\, Parkville Missouri 64152 
SEQUENCE:3
END:VEVENT
END:VCALENDAR
