BEGIN:VCALENDAR
PRODID;X-RICAL-TZSOURCE=TZINFO:-//Calagator//EN
CALSCALE:GREGORIAN
X-WR-CALNAME:Adapt2Play
METHOD:PUBLISH
VERSION:2.0
BEGIN:VEVENT
CREATED;VALUE=DATE-TIME:20260416T000309Z
DTEND;VALUE=DATE-TIME:20260512T000000Z
DTSTART;VALUE=DATE-TIME:20260511T230000Z
DTSTAMP;VALUE=DATE-TIME:20260416T000309Z
LAST-MODIFIED;VALUE=DATE-TIME:20260416T000309Z
UID:https://adapt2play.org/events/23145-summer-volunteer-kick-off-party
DESCRIPTION:Monday May 11th \n5pm – 7pm \nBlackstar \nFirst beverage is o
 n DREAM. \nStop by to say hello\, meet the team\, or to learn more about
  volunteering. \nAny volunteers who have completed their required comput
 er based training will be eligible for some DREAM Swag!\n\nImported from
 : https://adapt2play.org/events/23145-summer-volunteer-kick-off-party
URL:https://dreamadaptive.org/event-view/summer-volunteer-kick-off-party/
SUMMARY:Summer Volunteer Kick Off Party
LOCATION:Location:: Central Avenue\, Whitefish Montana 59937 
SEQUENCE:1
END:VEVENT
END:VCALENDAR
