BEGIN:VCALENDAR
PRODID;X-RICAL-TZSOURCE=TZINFO:-//Calagator//EN
CALSCALE:GREGORIAN
X-WR-CALNAME:Adapt2Play
METHOD:PUBLISH
VERSION:2.0
BEGIN:VEVENT
CREATED;VALUE=DATE-TIME:20260416T000309Z
DTEND;VALUE=DATE-TIME:20260501T150000Z
DTSTART;VALUE=DATE-TIME:20260501T140000Z
DTSTAMP;VALUE=DATE-TIME:20260416T000309Z
LAST-MODIFIED;VALUE=DATE-TIME:20260416T000309Z
UID:https://adapt2play.org/events/23144-volunteer-and-participant-registr
 ation-opens
DESCRIPTION:[&quot\;Welcome to DREAM! We offer lessons and recreational o
 pportunities for individuals with disabilities\, ages 5 through adults. 
  Our programs provide people of all ages and abilities the opportunity t
 o experience the great outdoors.  It’s our hope that through these exper
 iences our participants build confidence\, create new relationships\, an
 d gain independence&quot\;\, &quot\; skills we hope will transfer to oth
 er life areas. \\nMost DREAM participants live in or near the Flathead V
 alley\, however we enjoy working with those visiting from out of town as
  well.  Additionally\, we are proud to provide our programs free of char
 ge to active duty Service Members and Veterans with a disability. \\nLoc
 ations:  Our summer opportunities are primarily based on bodies of water
  and trails in the Flathead Valley.  However\, each year we partner with
  other adaptive sports non-profits in the northwest to expand our reach 
 through special programming. \\nCost to Participate:  Each program varie
 s.  Financial aid scholarships are available.  Military Veterans and Act
 ive Duty Service Members with a disability participate at no-cost. \\nPl
 ease check out our General Guidelines for Participation&quot\;]\n\nImpor
 ted from: https://adapt2play.org/events/23144-volunteer-and-participant-
 registration-opens
URL:https://dreamadaptive.org/event-view/group-ride-registration-opens/
SUMMARY:Volunteer and Participant Registration Opens
LOCATION:Location:: Malta\,    
SEQUENCE:1
END:VEVENT
END:VCALENDAR
