BEGIN:VCALENDAR
PRODID;X-RICAL-TZSOURCE=TZINFO:-//Calagator//EN
CALSCALE:GREGORIAN
X-WR-CALNAME:Adapt2Play
METHOD:PUBLISH
VERSION:2.0
BEGIN:VEVENT
CREATED;VALUE=DATE-TIME:20260416T000226Z
DTEND;VALUE=DATE-TIME:20260416T150000Z
DTSTART;VALUE=DATE-TIME:20260416T140000Z
DTSTAMP;VALUE=DATE-TIME:20260416T000226Z
LAST-MODIFIED;VALUE=DATE-TIME:20260416T000226Z
UID:https://adapt2play.org/events/23143-michael-levi-thursday-sailing-vet
 erans-and-first-responders
DESCRIPTION:April 16\, 2026 10:00am EDT\nCalendar: Veterans and First Res
 ponders\nName: Michael Levi\nPhone: +15619358204\nEmail: army97b@gmail.c
 om\n\nLocation\n============\nTeam Paradise Sailing\, 2476 S. Bayshore D
 r. Miami\, FL 33133\n\n\nTerms &amp\; Conditions for Veterans and First 
 Responders \n============\nI have read and agree to the terms above: yes
 \n\nHow did you find us: Word of mouth\n\nAre you a Diasbled Veteran?: y
 es\n\nAre you a Veteran: yes\n\nAre you a First Responder?: no\n\n\nChan
 ge Appointment:\nhttps://teamparadise.squarespace.com/config/scheduling/
 appointments/view/1688155179\n\n\nPlease use Acuity Scheduling to cancel
  or reschedule this appointment.\n(created by Acuity Scheduling)\nAcuity
 ID=1688155179\n\n\nImported from: https://adapt2play.org/events/23143-mi
 chael-levi-thursday-sailing-veterans-and-first-responders
SUMMARY:Michael Levi: Thursday Sailing (Veterans and First Responders)
LOCATION:Location:: 2476 South Bayshore Drive\, Miami Florida 33133 
SEQUENCE:1
END:VEVENT
END:VCALENDAR
