BEGIN:VCALENDAR
PRODID;X-RICAL-TZSOURCE=TZINFO:-//Calagator//EN
CALSCALE:GREGORIAN
X-WR-CALNAME:Adapt2Play
METHOD:PUBLISH
VERSION:2.0
BEGIN:VEVENT
CREATED;VALUE=DATE-TIME:20260416T000226Z
DTEND;VALUE=DATE-TIME:20260427T200000Z
DTSTART;VALUE=DATE-TIME:20260427T190000Z
DTSTAMP;VALUE=DATE-TIME:20260416T000226Z
LAST-MODIFIED;VALUE=DATE-TIME:20260416T000226Z
UID:https://adapt2play.org/events/23142-conviva-sunset
DESCRIPTION:Imaging 20 Non-Billable at 3:00 PMwith Us Proc-Conviva Sunset
 6150 SUNSET DR(305) 274-9890Healthyliving2026!\n\nImported from: https:/
 /adapt2play.org/events/23142-conviva-sunset
SUMMARY:Conviva Sunset
LOCATION:Location:: 6150 Southwest 72nd Street\, South Miami Florida 3314
 3 
SEQUENCE:1
END:VEVENT
END:VCALENDAR
