BEGIN:VCALENDAR
PRODID;X-RICAL-TZSOURCE=TZINFO:-//Calagator//EN
CALSCALE:GREGORIAN
X-WR-CALNAME:Adapt2Play
METHOD:PUBLISH
VERSION:2.0
BEGIN:VEVENT
CREATED;VALUE=DATE-TIME:20260416T000051Z
DTEND;VALUE=DATE-TIME:20260802T010000Z
DTSTART;VALUE=DATE-TIME:20260802T000000Z
DTSTAMP;VALUE=DATE-TIME:20260416T000051Z
LAST-MODIFIED;VALUE=DATE-TIME:20260417T000044Z
UID:https://adapt2play.org/events/23122-camp-adventures
DESCRIPTION:A overnight camp for the whole family.Participant must be age
  5=25 who has a disability\, but the whole family comes to enjoy the cam
 p time with them.For more information:  and to sign up - Click Here\n\nI
 mported from: https://adapt2play.org/events/23122-camp-adventures
SUMMARY:Camp Adventures
LOCATION:Location:: 5535 Arroyo Road\, Livermore California 94550 
SEQUENCE:2
END:VEVENT
END:VCALENDAR
