BEGIN:VCALENDAR
PRODID;X-RICAL-TZSOURCE=TZINFO:-//Calagator//EN
CALSCALE:GREGORIAN
X-WR-CALNAME:Adapt2Play
METHOD:PUBLISH
VERSION:2.0
BEGIN:VEVENT
CREATED;VALUE=DATE-TIME:20260415T000342Z
DTEND;VALUE=DATE-TIME:20260630T230000Z
DTSTART;VALUE=DATE-TIME:20260630T220000Z
DTSTAMP;VALUE=DATE-TIME:20260415T000342Z
LAST-MODIFIED;VALUE=DATE-TIME:20260416T000418Z
UID:https://adapt2play.org/events/23108-evening-kayaking
DESCRIPTION:REGISTER HEREDescription: FREE for all Veterans. Join us for 
 a relaxing morning paddle on the Scioto River. All boats\, life jackets\
 , paddles\, and adaptive fittings will be provided. Each family will als
 o be paired with an on-water buddy who can help as much or as little as 
 you need.Event Time: 6 p.m. - 8 p.m.Registration closes 72 hours before 
 the event\n\nImported from: https://adapt2play.org/events/23108-evening-
 kayaking
SUMMARY:Evening Kayaking
LOCATION:Location:: 6000 Harriott Road\, Powell Ohio 43065 
SEQUENCE:2
END:VEVENT
END:VCALENDAR
