BEGIN:VCALENDAR
PRODID;X-RICAL-TZSOURCE=TZINFO:-//Calagator//EN
CALSCALE:GREGORIAN
X-WR-CALNAME:Adapt2Play
METHOD:PUBLISH
VERSION:2.0
BEGIN:VEVENT
CREATED;VALUE=DATE-TIME:20260415T000324Z
DTEND;VALUE=DATE-TIME:20260416T150000Z
DTSTART;VALUE=DATE-TIME:20260416T140000Z
DTSTAMP;VALUE=DATE-TIME:20260415T000324Z
LAST-MODIFIED;VALUE=DATE-TIME:20260415T000324Z
UID:https://adapt2play.org/events/23078-theresa-colthirst-thursday-sailin
 g-veterans-and-first-responders
DESCRIPTION:April 16\, 2026 10:00am EDT\nCalendar: Veterans and First Res
 ponders\nName: Theresa Colthirst\nPhone: +18622051302\nEmail: theresacol
 thirst@aol.com\n\nLocation\n============\nTeam Paradise Sailing\, 2476 S
 . Bayshore Dr. Miami\, FL 33133\n\n\nTerms &amp\; Conditions for Veteran
 s and First Responders \n============\nI have read and agree to the term
 s above: yes\n\nHow did you find us: VA Hospital\n\nAre you a Diasbled V
 eteran?: yes\n\nAre you a Veteran: yes\n\nAre you a First Responder?: no
 \n\n\nChange Appointment:\nhttps://teamparadise.squarespace.com/config/s
 cheduling/appointments/view/1687879395\n\n\nPlease use Acuity Scheduling
  to cancel or reschedule this appointment.\n(created by Acuity Schedulin
 g)\nAcuityID=1687879395\n\n\nImported from: https://adapt2play.org/event
 s/23078-theresa-colthirst-thursday-sailing-veterans-and-first-responders
SUMMARY:Theresa Colthirst: Thursday Sailing (Veterans and First Responder
 s)
LOCATION:Location:: 2476 South Bayshore Drive\, Miami Florida 33133 
SEQUENCE:1
END:VEVENT
END:VCALENDAR
