BEGIN:VCALENDAR
PRODID;X-RICAL-TZSOURCE=TZINFO:-//Calagator//EN
CALSCALE:GREGORIAN
X-WR-CALNAME:Adapt2Play
METHOD:PUBLISH
VERSION:2.0
BEGIN:VEVENT
CREATED;VALUE=DATE-TIME:20260415T000324Z
DTEND;VALUE=DATE-TIME:20260416T150000Z
DTSTART;VALUE=DATE-TIME:20260416T140000Z
DTSTAMP;VALUE=DATE-TIME:20260415T000324Z
LAST-MODIFIED;VALUE=DATE-TIME:20260415T000324Z
UID:https://adapt2play.org/events/23077-joseph-bartholomew-thursday-saili
 ng-veterans-and-first-responders
DESCRIPTION:April 16\, 2026 10:00am EDT\nCalendar: Veterans and First Res
 ponders\nName: Joseph Bartholomew\nPhone: +15187420766\nEmail: jbbarth2@
 gmail.com\nCertificate Code: SAIL-2026\n\nLocation\n============\nTeam P
 aradise Sailing\, 2476 S. Bayshore Dr. Miami\, FL 33133\n\n\nTerms &amp\
 ; Conditions for Veterans and First Responders \n============\nI have re
 ad and agree to the terms above: yes\n\nHow did you find us: Banner in t
 he park\n\nAre you a Diasbled Veteran?: no\n\nAre you a Veteran: yes\n\n
 Are you a First Responder?: no\n\n\nChange Appointment:\nhttps://teampar
 adise.squarespace.com/config/scheduling/appointments/view/1687956865\n\n
 \nPlease use Acuity Scheduling to cancel or reschedule this appointment.
 \n(created by Acuity Scheduling)\nAcuityID=1687956865\n\n\nImported from
 : https://adapt2play.org/events/23077-joseph-bartholomew-thursday-sailin
 g-veterans-and-first-responders
SUMMARY:Joseph Bartholomew: Thursday Sailing (Veterans and First Responde
 rs)
LOCATION:Location:: 2476 South Bayshore Drive\, Miami Florida 33133 
SEQUENCE:1
END:VEVENT
END:VCALENDAR
