BEGIN:VCALENDAR
PRODID;X-RICAL-TZSOURCE=TZINFO:-//Calagator//EN
CALSCALE:GREGORIAN
X-WR-CALNAME:Adapt2Play
METHOD:PUBLISH
VERSION:2.0
BEGIN:VEVENT
CREATED;VALUE=DATE-TIME:20260415T000324Z
DTEND;VALUE=DATE-TIME:20260416T150000Z
DTSTART;VALUE=DATE-TIME:20260416T140000Z
DTSTAMP;VALUE=DATE-TIME:20260415T000324Z
LAST-MODIFIED;VALUE=DATE-TIME:20260415T000324Z
UID:https://adapt2play.org/events/23074-vanessa-herard-thursday-sailing-v
 eterans-and-first-responders
DESCRIPTION:April 16\, 2026 10:00am EDT\nCalendar: Veterans and First Res
 ponders\nName: Vanessa Herard\nPhone: +19546849341\nEmail: vherard76@gma
 il.com\n\nLocation\n============\nTeam Paradise Sailing\, 2476 S. Baysho
 re Dr. Miami\, FL 33133\n\n\nTerms &amp\; Conditions for Veterans and Fi
 rst Responders \n============\nI have read and agree to the terms above:
  yes\n\nHow did you find us: VA Hospital\n\nAre you a Diasbled Veteran?:
  yes\n\nAre you a Veteran: yes\n\nAre you a First Responder?: no\n\n\nCh
 ange Appointment:\nhttps://teamparadise.squarespace.com/config/schedulin
 g/appointments/view/1687704582\n\n\nPlease use Acuity Scheduling to canc
 el or reschedule this appointment.\n(created by Acuity Scheduling)\nAcui
 tyID=1687704582\n\n\nImported from: https://adapt2play.org/events/23074-
 vanessa-herard-thursday-sailing-veterans-and-first-responders
SUMMARY:Vanessa Herard: Thursday Sailing (Veterans and First Responders)
LOCATION:Location:: 2476 South Bayshore Drive\, Miami Florida 33133 
SEQUENCE:1
END:VEVENT
END:VCALENDAR
