BEGIN:VCALENDAR
PRODID;X-RICAL-TZSOURCE=TZINFO:-//Calagator//EN
CALSCALE:GREGORIAN
X-WR-CALNAME:Adapt2Play
METHOD:PUBLISH
VERSION:2.0
BEGIN:VEVENT
CREATED;VALUE=DATE-TIME:20260415T000321Z
DTEND;VALUE=DATE-TIME:20260829T000000Z
DTSTART;VALUE=DATE-TIME:20260828T230000Z
DTSTAMP;VALUE=DATE-TIME:20260415T000321Z
LAST-MODIFIED;VALUE=DATE-TIME:20260415T000321Z
UID:https://adapt2play.org/events/23072-outdoor-movie-night
DESCRIPTION:Click here to register/waitlist\nClick here for more informat
 ion\n\nImported from: https://adapt2play.org/events/23072-outdoor-movie-
 night
URL:https://hisra.org/event/outdoor-movie-night/
SUMMARY:Outdoor Movie Night
LOCATION:Location:: Hisar\, Hisar Haryana  
SEQUENCE:1
END:VEVENT
END:VCALENDAR
