BEGIN:VCALENDAR
PRODID;X-RICAL-TZSOURCE=TZINFO:-//Calagator//EN
CALSCALE:GREGORIAN
X-WR-CALNAME:Adapt2Play
METHOD:PUBLISH
VERSION:2.0
BEGIN:VEVENT
CREATED;VALUE=DATE-TIME:20260415T000321Z
DTEND;VALUE=DATE-TIME:20260508T230000Z
DTSTART;VALUE=DATE-TIME:20260508T220000Z
DTSTAMP;VALUE=DATE-TIME:20260415T000321Z
LAST-MODIFIED;VALUE=DATE-TIME:20260415T000321Z
UID:https://adapt2play.org/events/23071-hisra-hangouts
DESCRIPTION:Click here to register for any of the 4 dates\nClick here for
  more information\n\nImported from: https://adapt2play.org/events/23071-
 hisra-hangouts
URL:https://hisra.org/event/hisra-hangouts-6/
SUMMARY:HISRA Hangouts
LOCATION:Location:: Hisar\, Hisar Haryana  
SEQUENCE:1
END:VEVENT
END:VCALENDAR
