BEGIN:VCALENDAR
PRODID;X-RICAL-TZSOURCE=TZINFO:-//Calagator//EN
CALSCALE:GREGORIAN
X-WR-CALNAME:Adapt2Play
METHOD:PUBLISH
VERSION:2.0
BEGIN:VEVENT
CREATED;VALUE=DATE-TIME:20260415T000321Z
DTEND;VALUE=DATE-TIME:20260513T234500Z
DTSTART;VALUE=DATE-TIME:20260513T224500Z
DTSTAMP;VALUE=DATE-TIME:20260415T000321Z
LAST-MODIFIED;VALUE=DATE-TIME:20260415T000321Z
UID:https://adapt2play.org/events/23070-special-olympics-golf-course-play
DESCRIPTION:Click here for more information\nClick here to register/waitl
 ist\n\nImported from: https://adapt2play.org/events/23070-special-olympi
 cs-golf-course-play
URL:https://hisra.org/event/special-olympics-golf-course-play/
SUMMARY:Special Olympics Golf Course Play
LOCATION:Location:: Golf Course\, Golf Course Arua  
SEQUENCE:1
END:VEVENT
END:VCALENDAR
