BEGIN:VCALENDAR
PRODID;X-RICAL-TZSOURCE=TZINFO:-//Calagator//EN
CALSCALE:GREGORIAN
X-WR-CALNAME:Adapt2Play
METHOD:PUBLISH
VERSION:2.0
BEGIN:VEVENT
CREATED;VALUE=DATE-TIME:20260415T000321Z
DTEND;VALUE=DATE-TIME:20260822T170000Z
DTSTART;VALUE=DATE-TIME:20260822T160000Z
DTSTAMP;VALUE=DATE-TIME:20260415T000321Z
LAST-MODIFIED;VALUE=DATE-TIME:20260415T000321Z
UID:https://adapt2play.org/events/23069-youth-backyard-bbq
DESCRIPTION:click here to register/waitlist\nClick here for more informat
 ion\n\nImported from: https://adapt2play.org/events/23069-youth-backyard
 -bbq
URL:https://hisra.org/event/youth-backyard-bbq-2/
SUMMARY:Youth Backyard BBQ
LOCATION:Location:: Hisar\, Hisar Haryana  
SEQUENCE:1
END:VEVENT
END:VCALENDAR
