BEGIN:VCALENDAR
PRODID;X-RICAL-TZSOURCE=TZINFO:-//Calagator//EN
CALSCALE:GREGORIAN
X-WR-CALNAME:Adapt2Play
METHOD:PUBLISH
VERSION:2.0
BEGIN:VEVENT
CREATED;VALUE=DATE-TIME:20260415T000321Z
DTEND;VALUE=DATE-TIME:20260516T000000Z
DTSTART;VALUE=DATE-TIME:20260515T230000Z
DTSTAMP;VALUE=DATE-TIME:20260415T000321Z
LAST-MODIFIED;VALUE=DATE-TIME:20260421T000325Z
UID:https://adapt2play.org/events/23066-mini-golf-treats
DESCRIPTION:Click here to register/waitlist\nClick here for more informat
 ion\n\nImported from: https://adapt2play.org/events/23066-mini-golf-trea
 ts
URL:https://hisra.org/event/mini-golf-treats-9/
SUMMARY:Mini Golf & Treats
LOCATION:Location:: Tougué\,  Tougué  
SEQUENCE:4
END:VEVENT
END:VCALENDAR
