BEGIN:VCALENDAR
PRODID;X-RICAL-TZSOURCE=TZINFO:-//Calagator//EN
CALSCALE:GREGORIAN
X-WR-CALNAME:Adapt2Play
METHOD:PUBLISH
VERSION:2.0
BEGIN:VEVENT
CREATED;VALUE=DATE-TIME:20260415T000321Z
DTEND;VALUE=DATE-TIME:20260502T150000Z
DTSTART;VALUE=DATE-TIME:20260502T140000Z
DTSTAMP;VALUE=DATE-TIME:20260415T000321Z
LAST-MODIFIED;VALUE=DATE-TIME:20260415T000321Z
UID:https://adapt2play.org/events/23065-puzzles-pastries
DESCRIPTION:To register/waitlist for one of the dates\, click here\nClick
  here for more information\n\nImported from: https://adapt2play.org/even
 ts/23065-puzzles-pastries
URL:https://hisra.org/event/puzzles-pastries/
SUMMARY:Puzzles & Pastries
LOCATION:Location:: Hisar\, Hisar Haryana  
SEQUENCE:1
END:VEVENT
END:VCALENDAR
