BEGIN:VCALENDAR
PRODID;X-RICAL-TZSOURCE=TZINFO:-//Calagator//EN
CALSCALE:GREGORIAN
X-WR-CALNAME:Adapt2Play
METHOD:PUBLISH
VERSION:2.0
BEGIN:VEVENT
CREATED;VALUE=DATE-TIME:20260415T000321Z
DTEND;VALUE=DATE-TIME:20260508T000000Z
DTSTART;VALUE=DATE-TIME:20260507T230000Z
DTSTAMP;VALUE=DATE-TIME:20260415T000321Z
LAST-MODIFIED;VALUE=DATE-TIME:20260415T000321Z
UID:https://adapt2play.org/events/23064-special-olympics-softball
DESCRIPTION:Click here to register/waitlist\nClick here for more informat
 ion\n\nImported from: https://adapt2play.org/events/23064-special-olympi
 cs-softball
URL:https://hisra.org/event/special-olympics-softball-5/
SUMMARY:Special Olympics Softball
LOCATION:Location:: Laura Lane\, Park Ridge New Jersey 07656 
SEQUENCE:1
END:VEVENT
END:VCALENDAR
