BEGIN:VCALENDAR
PRODID;X-RICAL-TZSOURCE=TZINFO:-//Calagator//EN
CALSCALE:GREGORIAN
X-WR-CALNAME:Adapt2Play
METHOD:PUBLISH
VERSION:2.0
BEGIN:VEVENT
CREATED;VALUE=DATE-TIME:20260415T000321Z
DTEND;VALUE=DATE-TIME:20260707T230000Z
DTSTART;VALUE=DATE-TIME:20260707T220000Z
DTSTAMP;VALUE=DATE-TIME:20260415T000321Z
LAST-MODIFIED;VALUE=DATE-TIME:20260415T000321Z
UID:https://adapt2play.org/events/23063-special-olympics-flag-football
DESCRIPTION:Click here to register/waitlist\nClick here for more informat
 ion\n\nImported from: https://adapt2play.org/events/23063-special-olympi
 cs-flag-football
URL:https://hisra.org/event/special-olympics-flag-football-3/
SUMMARY:Special Olympics Flag Football
LOCATION:Location:: Hisar\, Hisar Haryana  
SEQUENCE:1
END:VEVENT
END:VCALENDAR
