BEGIN:VCALENDAR
PRODID;X-RICAL-TZSOURCE=TZINFO:-//Calagator//EN
CALSCALE:GREGORIAN
X-WR-CALNAME:Adapt2Play
METHOD:PUBLISH
VERSION:2.0
BEGIN:VEVENT
CREATED;VALUE=DATE-TIME:20260415T000321Z
DTEND;VALUE=DATE-TIME:20260502T000000Z
DTSTART;VALUE=DATE-TIME:20260501T230000Z
DTSTAMP;VALUE=DATE-TIME:20260415T000321Z
LAST-MODIFIED;VALUE=DATE-TIME:20260415T000321Z
UID:https://adapt2play.org/events/23062-pizza-bowling
DESCRIPTION:Click here to register/waitlist for one of the dates\nClick h
 ere for more information\n\nImported from: https://adapt2play.org/events
 /23062-pizza-bowling
URL:https://hisra.org/event/pizza-bowling-11/
SUMMARY:Pizza & Bowling
LOCATION:Location:: 2 Weeks Road\, Rutherfordton North Carolina 28139 
SEQUENCE:1
END:VEVENT
END:VCALENDAR
