BEGIN:VCALENDAR
PRODID;X-RICAL-TZSOURCE=TZINFO:-//Calagator//EN
CALSCALE:GREGORIAN
X-WR-CALNAME:Adapt2Play
METHOD:PUBLISH
VERSION:2.0
BEGIN:VEVENT
CREATED;VALUE=DATE-TIME:20260415T000321Z
DTEND;VALUE=DATE-TIME:20260801T000000Z
DTSTART;VALUE=DATE-TIME:20260731T230000Z
DTSTAMP;VALUE=DATE-TIME:20260415T000321Z
LAST-MODIFIED;VALUE=DATE-TIME:20260415T000321Z
UID:https://adapt2play.org/events/23061-sundaes-songs
DESCRIPTION:Click here to register/waitlist\nClick here to for more infor
 mation\n\nImported from: https://adapt2play.org/events/23061-sundaes-son
 gs
URL:https://hisra.org/event/sundaes-songs/
SUMMARY:Sundaes & Songs
LOCATION:Location:: Hisar\, Hisar Haryana  
SEQUENCE:1
END:VEVENT
END:VCALENDAR
