BEGIN:VCALENDAR
PRODID;X-RICAL-TZSOURCE=TZINFO:-//Calagator//EN
CALSCALE:GREGORIAN
X-WR-CALNAME:Adapt2Play
METHOD:PUBLISH
VERSION:2.0
BEGIN:VEVENT
CREATED;VALUE=DATE-TIME:20260415T000321Z
DTEND;VALUE=DATE-TIME:20260513T224500Z
DTSTART;VALUE=DATE-TIME:20260513T214500Z
DTSTAMP;VALUE=DATE-TIME:20260415T000321Z
LAST-MODIFIED;VALUE=DATE-TIME:20260415T000321Z
UID:https://adapt2play.org/events/23058-special-olympics-golf-skills
DESCRIPTION:Click here to register/waitlist\nClick here for more informat
 ion\n\nImported from: https://adapt2play.org/events/23058-special-olympi
 cs-golf-skills
URL:https://hisra.org/event/special-olympics-golf-skills-3/
SUMMARY:Special Olympics Golf Skills
LOCATION:Location:: Golf Learning Center Drive\, Fayetteville North Carol
 ina 28304 
SEQUENCE:1
END:VEVENT
END:VCALENDAR
