BEGIN:VCALENDAR
PRODID;X-RICAL-TZSOURCE=TZINFO:-//Calagator//EN
CALSCALE:GREGORIAN
X-WR-CALNAME:Adapt2Play
METHOD:PUBLISH
VERSION:2.0
BEGIN:VEVENT
CREATED;VALUE=DATE-TIME:20260415T000321Z
DTEND;VALUE=DATE-TIME:20260610T220000Z
DTSTART;VALUE=DATE-TIME:20260610T210000Z
DTSTAMP;VALUE=DATE-TIME:20260415T000321Z
LAST-MODIFIED;VALUE=DATE-TIME:20260415T000321Z
UID:https://adapt2play.org/events/23057-strikers
DESCRIPTION:Click here to register/waitlist\nClick here for more informat
 ion\n\nImported from: https://adapt2play.org/events/23057-strikers
URL:https://hisra.org/event/strikers-10/
SUMMARY:Strikers
LOCATION:Location:: Bowling Center Lane\, Hawley Pennsylvania 18428 
SEQUENCE:1
END:VEVENT
END:VCALENDAR
