BEGIN:VCALENDAR
PRODID;X-RICAL-TZSOURCE=TZINFO:-//Calagator//EN
CALSCALE:GREGORIAN
X-WR-CALNAME:Adapt2Play
METHOD:PUBLISH
VERSION:2.0
BEGIN:VEVENT
CREATED;VALUE=DATE-TIME:20260415T000321Z
DTEND;VALUE=DATE-TIME:20260819T220000Z
DTSTART;VALUE=DATE-TIME:20260819T210000Z
DTSTAMP;VALUE=DATE-TIME:20260415T000321Z
LAST-MODIFIED;VALUE=DATE-TIME:20260415T000321Z
UID:https://adapt2play.org/events/23053-special-olympics-bowling
DESCRIPTION:To register/waitlist click here\nFor more information click h
 ere\n\nImported from: https://adapt2play.org/events/23053-special-olympi
 cs-bowling
URL:https://hisra.org/event/special-olympics-bowling-4/
SUMMARY:Special Olympics Bowling
LOCATION:Location:: Bowling Center Lane\, Hawley Pennsylvania 18428 
SEQUENCE:1
END:VEVENT
END:VCALENDAR
