BEGIN:VCALENDAR
PRODID;X-RICAL-TZSOURCE=TZINFO:-//Calagator//EN
CALSCALE:GREGORIAN
X-WR-CALNAME:Adapt2Play
METHOD:PUBLISH
VERSION:2.0
BEGIN:VEVENT
CREATED;VALUE=DATE-TIME:20260415T000321Z
DTEND;VALUE=DATE-TIME:20260509T233000Z
DTSTART;VALUE=DATE-TIME:20260509T223000Z
DTSTAMP;VALUE=DATE-TIME:20260415T000321Z
LAST-MODIFIED;VALUE=DATE-TIME:20260421T000325Z
UID:https://adapt2play.org/events/23052-peoria-chiefs-outing
DESCRIPTION:Click here to register/waitlist\nClick here for more informat
 ion\n\nImported from: https://adapt2play.org/events/23052-peoria-chiefs-
 outing
URL:https://hisra.org/event/peoria-chiefs-outing/
SUMMARY:Peoria Chiefs Outing
LOCATION:Location:: Transport Tr\, Hudson Wisconsin 54016 
SEQUENCE:4
END:VEVENT
END:VCALENDAR
